BEGIN:VCALENDAR
VERSION:2.0
PRODID:-//GACCOBS - ECPv5.1.0//NONSGML v1.0//EN
CALSCALE:GREGORIAN
METHOD:PUBLISH
X-WR-CALNAME:GACCOBS
X-ORIGINAL-URL:https://gaccobs.org
X-WR-CALDESC:Events for GACCOBS
BEGIN:VTIMEZONE
TZID:America/New_York
BEGIN:DAYLIGHT
TZOFFSETFROM:-0500
TZOFFSETTO:-0400
TZNAME:EDT
DTSTART:20260308T070000
END:DAYLIGHT
BEGIN:STANDARD
TZOFFSETFROM:-0400
TZOFFSETTO:-0500
TZNAME:EST
DTSTART:20261101T060000
END:STANDARD
END:VTIMEZONE
BEGIN:VEVENT
DTSTART;TZID=America/New_York:20260328T100000
DTEND;TZID=America/New_York:20260328T130000
DTSTAMP:20260424T235128
CREATED:20260228T214621Z
LAST-MODIFIED:20260228T222151Z
UID:4944-1774692000-1774702800@gaccobs.org
SUMMARY:Salvation Has Been Brought Down Lecture Series
DESCRIPTION:Salvation Has Been Brought Down Lecture Series\nDid you know salvation has been brought down to man?  This is so powerful\, we must tell the world! \nAttend the lecture series and learn more! \nSaturday\, March 28\, 2026\n10:00 a.m. to 1:00 p.m. \nGuest Speakers: \nSpeaker: Norfleet Stitts \nRhome Church of Christ\, Rhome\, TX \nTopic: Perseverance and Courage\nMark 5:25-35 \nSpeaker: Melvin Smith \nShady Grove Church of Christ\, Jefferson\, TX \nTopic: The Pool of Bethesda\nJohn 5:5 \nSpeaker: Chris Swinford \nFaith Village Church of Christ\, Wichita Falls\, FL \nTopic: A Walk and Journey by Faith\nHebrews 11:23-29 \nPanel Discussion Following the Third Speaker \nCLICK TO REGISTER TODAY! \nRegister by March 25\, 2026\nContinental Breakfast and Lunch Will be Provided\nMust Register to Receive a Lunch Ticket. Must be Present to Receive a Door Prize. \n
URL:https://gaccobs.org/event/salvation-has-been-brought-down-lecture-series-2-2-2-2-2-2-2/
CATEGORIES:Meetings
END:VEVENT
END:VCALENDAR