BEGIN:VCALENDAR
VERSION:2.0
PRODID:-//GACCOBS - ECPv5.1.0//NONSGML v1.0//EN
CALSCALE:GREGORIAN
METHOD:PUBLISH
X-WR-CALNAME:GACCOBS
X-ORIGINAL-URL:https://gaccobs.org
X-WR-CALDESC:Events for GACCOBS
BEGIN:VTIMEZONE
TZID:America/New_York
BEGIN:DAYLIGHT
TZOFFSETFROM:-0500
TZOFFSETTO:-0400
TZNAME:EDT
DTSTART:20250309T070000
END:DAYLIGHT
BEGIN:STANDARD
TZOFFSETFROM:-0400
TZOFFSETTO:-0500
TZNAME:EST
DTSTART:20251102T060000
END:STANDARD
END:VTIMEZONE
BEGIN:VEVENT
DTSTART;TZID=America/New_York:20250329T100000
DTEND;TZID=America/New_York:20250329T130000
DTSTAMP:20260425T185756
CREATED:20250226T190556Z
LAST-MODIFIED:20250226T190556Z
UID:4332-1743242400-1743253200@gaccobs.org
SUMMARY:Salvation Has Been Brought Down Lecture Series
DESCRIPTION:Salvation Has Been Brought Down Lecture Series\nDid you know salvation has been brought down to man?  This is so powerful\, we must tell the world! \nAttend the lecture series and learn more! \nSaturday\, March 29\, 2025\n10:00 a.m. to 1:00 p.m. \nGuest Speakers: \nSpeaker: Chris Graham \nWest Freeway Church of Christ\, Ft. Worth\, TX \nTopic: When Thrown in the Fire of Perdition\, Do Not Surrender\nDaniel 3:10-28 \nSpeaker: Emery Tease \nDallas West Church of Christ\, Dallas\, TX \nTopic: Having Assurance in the Lord\, When My Enemies Attack Me\nPsalms 27 \nSpeaker: Jim Mitchell \nCherokee Hills Church of Christ\, OKC\, OK \nTopic: I’m Locked in and Can’t Get Out\nActs 16:25-31 \nPanel Discussion Following the Third Speaker \nREGISTER TODAY! \nRegister at GACoC.org by March 26\, 2025\nContinental Breakfast and Lunch Will be Provided\nMust Register to Receive a Lunch Ticket. Must be Present to Receive a Door Prize. \n
URL:https://gaccobs.org/event/salvation-has-been-brought-down-lecture-series-2-2-2-2-2/
CATEGORIES:Meetings
END:VEVENT
END:VCALENDAR