BEGIN:VCALENDAR
VERSION:2.0
PRODID:-//GACCOBS - ECPv5.1.0//NONSGML v1.0//EN
CALSCALE:GREGORIAN
METHOD:PUBLISH
X-WR-CALNAME:GACCOBS
X-ORIGINAL-URL:https://gaccobs.org
X-WR-CALDESC:Events for GACCOBS
BEGIN:VTIMEZONE
TZID:UTC
BEGIN:STANDARD
TZOFFSETFROM:+0000
TZOFFSETTO:+0000
TZNAME:UTC
DTSTART:20240101T000000
END:STANDARD
END:VTIMEZONE
BEGIN:VEVENT
DTSTART;TZID=UTC:20240928T090000
DTEND;TZID=UTC:20240928T130000
DTSTAMP:20260426T013030
CREATED:20240828T204317Z
LAST-MODIFIED:20240828T204317Z
UID:4069-1727514000-1727528400@gaccobs.org
SUMMARY:The Share Workshop Edition
DESCRIPTION:Join us for The Share – Workshop Edition!  \nPlease invite as many individuals to join us on this day. The topics are designed to teach us concepts to share the Gospel but also to save lost souls. \nDon’t miss this workshop. Continental Breakfast will be served and a box lunch to go. You must be registered to receive the box lunch.\n \nLet’s work together to learn more about saving souls in the Kingdom on earth.  \nRegister Now at GACoC.org!  Or click the link below. \nhttps://www.eventbrite.com/e/the-share-workshop-edition-registration-995809261307 \n
URL:https://gaccobs.org/event/the-share-workshop-edition/
LOCATION:Community\, AZ\, United States
CATEGORIES:Meetings
ORGANIZER;CN="Tyrone%20Jones":MAILTO:outreach@gacoc.org
END:VEVENT
END:VCALENDAR