BEGIN:VCALENDAR
VERSION:2.0
PRODID:-//GACCOBS - ECPv5.1.0//NONSGML v1.0//EN
CALSCALE:GREGORIAN
METHOD:PUBLISH
X-WR-CALNAME:GACCOBS
X-ORIGINAL-URL:https://gaccobs.org
X-WR-CALDESC:Events for GACCOBS
BEGIN:VTIMEZONE
TZID:America/New_York
BEGIN:DAYLIGHT
TZOFFSETFROM:-0500
TZOFFSETTO:-0400
TZNAME:EDT
DTSTART:20240310T070000
END:DAYLIGHT
BEGIN:STANDARD
TZOFFSETFROM:-0400
TZOFFSETTO:-0500
TZNAME:EST
DTSTART:20241103T060000
END:STANDARD
END:VTIMEZONE
BEGIN:VEVENT
DTSTART;TZID=America/New_York:20241207T100000
DTEND;TZID=America/New_York:20241207T130000
DTSTAMP:20260425T221742
CREATED:20241024T165139Z
LAST-MODIFIED:20241025T152809Z
UID:4169-1733565600-1733576400@gaccobs.org
SUMMARY:Salvation Has Been Brought Down Lecture Series
DESCRIPTION:Salvation Has Been Brought Down Lecture Series\nDid you know salvation has been brought down to man?  This is so powerful\, we must tell the world! \nAttend the lecture series and learn more! \nSaturday\, December 7\, 2024\n10:00 a.m. to 1:00 p.m. \nGuest Speakers: \nSpeaker: John Hobbs \nWolfe City Church of Christ\, Wolfe City\, TX \nTopic: Chasing Chariots for Jesus: The Need for Old Fashion Evangelism\nActs 8:26-40 \nSpeaker: Jamie Rochell \nWest Central Church of Christ\, Warren\, AR \nTopic: The Precursor to the Coming of the Kingdom/Church\nMatthew 6:9-13; Matthew 16:18-20\, Acts 2:1-4 \nSpeaker: Dr. David L. Lane \nSouthern Hills Church of Christ\, Dallas\, TX \nTopic: Free to Agree to Disagree on Non-Doctrine; But Not Free to Agree to Disagree on Doctrine\nActs 15:36-41; 15:1-2 \nPanel Discussion Following the Third Speaker \nREGISTER TODAY! \nRegister at GACoC.org by December 4\, 2024\nContinental Breakfast and Lunch Will be Provided\nMust Register to Receive a Lunch Ticket. Must be Present to Receive a Door Prize. \n
URL:https://gaccobs.org/event/salvation-has-been-brought-down-lecture-series-2-2-2-2/
CATEGORIES:Meetings
END:VEVENT
END:VCALENDAR