BEGIN:VCALENDAR
VERSION:2.0
PRODID:-//GACCOBS - ECPv5.1.0//NONSGML v1.0//EN
CALSCALE:GREGORIAN
METHOD:PUBLISH
X-WR-CALNAME:GACCOBS
X-ORIGINAL-URL:https://gaccobs.org
X-WR-CALDESC:Events for GACCOBS
BEGIN:VTIMEZONE
TZID:America/New_York
BEGIN:DAYLIGHT
TZOFFSETFROM:-0500
TZOFFSETTO:-0400
TZNAME:EDT
DTSTART:20250309T070000
END:DAYLIGHT
BEGIN:STANDARD
TZOFFSETFROM:-0400
TZOFFSETTO:-0500
TZNAME:EST
DTSTART:20251102T060000
END:STANDARD
END:VTIMEZONE
BEGIN:VEVENT
DTSTART;TZID=America/New_York:20251213T100000
DTEND;TZID=America/New_York:20251213T130000
DTSTAMP:20260425T012649
CREATED:20251104T232242Z
LAST-MODIFIED:20251212T154151Z
UID:4708-1765620000-1765630800@gaccobs.org
SUMMARY:Salvation Has Been Brought Down Lecture Series
DESCRIPTION:Salvation Has Been Brought Down Lecture Series\nDid you know salvation has been brought down to man?  This is so powerful\, we must tell the world! \nAttend the lecture series and learn more! \nSaturday\, December 13\, 2025\n10:00 a.m. to 1:00 p.m. \nGuest Speakers: \nSpeaker: Larry Chappell \nGraham St. Church of Christ\, Paris\, TX \nTopic: Having Confidence in Christ\, When Satan Attacks Your Character\nPsalms 27 \nSpeaker: David Lane II \nSouthern Hills Church of Christ\, Dallas\, TX \nTopic: Remain Steadfast and Unmovable for the Gospel’s Sake\nI Corinthians 15:58 \nSpeaker: Adam Brinson \nPembroke Park Church of Christ\, Pembroke\, FL \nTopic: A Profound Insight for Mental and Emotional Imprisonment\nIsaiah 61:1 \nPanel Discussion Following the Third Speaker \nREGISTER TODAY! \nRegister at GACoC.org by December 10\, 2025\nContinental Breakfast and Lunch Will be Provided\nMust Register to Receive a Lunch Ticket. Must be Present to Receive a Door Prize. \n
URL:https://gaccobs.org/event/salvation-has-been-brought-down-lecture-series-2-2-2-2-2-2/
CATEGORIES:Meetings
END:VEVENT
END:VCALENDAR