BEGIN:VCALENDAR
VERSION:2.0
PRODID:-//GACCOBS - ECPv5.1.0//NONSGML v1.0//EN
CALSCALE:GREGORIAN
METHOD:PUBLISH
X-WR-CALNAME:GACCOBS
X-ORIGINAL-URL:https://gaccobs.org
X-WR-CALDESC:Events for GACCOBS
BEGIN:VTIMEZONE
TZID:UTC
BEGIN:STANDARD
TZOFFSETFROM:+0000
TZOFFSETTO:+0000
TZNAME:UTC
DTSTART:20240101T000000
END:STANDARD
END:VTIMEZONE
BEGIN:VEVENT
DTSTART;TZID=UTC:20241012T080000
DTEND;TZID=UTC:20241012T121500
DTSTAMP:20260425T235458
CREATED:20241007T185123Z
LAST-MODIFIED:20241007T185123Z
UID:4121-1728720000-1728735300@gaccobs.org
SUMMARY:Metroplex Evangelism Workshop
DESCRIPTION:When: Saturday\, October 12\, 2024\n \nWhere: Cedar Valley Church of Christ\n \nTime: 8 a.m. – 12:15 p.m.\n \nTopic: Inspiring the Church’s Commitment to Sharing the Good News \nThe workshop will focus on strategies to share the Gospel! \n
URL:https://gaccobs.org/event/natural-evangelism-workshop-2-2-2/
LOCATION:Community\, AZ\, United States
CATEGORIES:Meetings
ORGANIZER;CN="Tyrone%20Jones":MAILTO:outreach@gacoc.org
END:VEVENT
END:VCALENDAR